
BEGIN:VCALENDAR
VERSION:2.0
PRODID:-//africaatual.com.br - ECPv6.15.20//NONSGML v1.0//EN
CALSCALE:GREGORIAN
METHOD:PUBLISH
X-WR-CALNAME:africaatual.com.br
X-ORIGINAL-URL:https://africaatual.com.br
X-WR-CALDESC:Eventos para africaatual.com.br
REFRESH-INTERVAL;VALUE=DURATION:PT1H
X-Robots-Tag:noindex
X-PUBLISHED-TTL:PT1H
BEGIN:VTIMEZONE
TZID:America/Sao_Paulo
BEGIN:STANDARD
TZOFFSETFROM:-0300
TZOFFSETTO:-0300
TZNAME:-03
DTSTART:20230101T000000
END:STANDARD
END:VTIMEZONE
BEGIN:VEVENT
DTSTART;TZID=America/Sao_Paulo:20240418T080000
DTEND;TZID=America/Sao_Paulo:20240512T170000
DTSTAMP:20260421T215658
CREATED:20240423T102650Z
LAST-MODIFIED:20240423T102822Z
UID:11101-1713427200-1715533200@africaatual.com.br
SUMMARY:Espetáculo musical "Bertoleza"
DESCRIPTION:O espetáculo musical “Bertoleza” é uma adaptação do livro “O Cortiço” de Aluísio Azevedo\, romance clássico da literatura naturalista brasileira\, em que o protagonismo é trocado. Dessa vez\, Bertoleza é a personagem que conduz a trama cujo enredo retrata as dificuldades de existência naquela época (final do século XIX). Mas a partir desta nova ótica\, a protagonista coloca em diálogo as histórias soterradas para que\, uma vez identificadas\, façam florescer a possibilidade de sonhar com horizontes onde o respeito seja possível. \nPara enriquecer a montagem\, é feita uma alusão à contribuição e pioneirismo de algumas personalidades negras que permanecem às escondidas e que\, buscando mesclar vivências\, propõe-se provocar a reflexão sobre a sistematização do apagamento de mulheres pretas\, suas falas e espaços sociais. A primeira Deputada Federal negra do país\, Antonieta de Barros; a primeira escritora publicada na América Latina\, Maria Firmino dos Reis; a catadora de papel que se tornou poetisa e teve sua obra traduzida em diversas línguas\, Carolina Maria de Jesus; a vereadora brutalmente assassinada por pautar e defender os Direitos Humanos\, Mariele Franco. \nApós vencer a Convocatória 2023 do Instituto Brasileiro de Teatro\, o vencedor do Prêmio APCA 2020 na categoria “Espetáculo” retorna aos palcos para uma curta temporada no Teatro Paulo Eiró\, em São Paulo.
URL:https://africaatual.com.br/index.php/event/espetaculo-musical-bertoleza/
LOCATION:Av. Adolfo Pinheiro\, 765 – Santo Amaro\, São Paulo – SP\, Av. Adolfo Pinheiro\, 765 - Santo Amaro\, São Paulo - SP\, Brasil
CATEGORIES:Eventos,Notícias
ATTACH;FMTTYPE=image/jpeg:https://africaatual.com.br/wp-content/uploads/2024/04/395bf397-7867-4958-ad15-a4353c62b0aa.jpeg
END:VEVENT
BEGIN:VEVENT
DTSTART;VALUE=DATE:20240426
DTEND;VALUE=DATE:20240502
DTSTAMP:20260421T215658
CREATED:20240417T133047Z
LAST-MODIFIED:20240417T133121Z
UID:11060-1714089600-1714607999@africaatual.com.br
SUMMARY:Exposição do Livro 'As Aventuras do Besouro Macangá' na Bienal do Livro da Bahia 2024
DESCRIPTION:Exposição do Livro ‘As Aventuras do Besouro Macangá’ na Bienal do Livro da Bahia 2024\nDescrição do evento \n\n\nA Bienal do Livro da Bahia\, que acontece em Salvador entre 26 de abril e 01 de maio\, faz da capital baiana um ponto de (re)encontro da Bahia com o Brasil\, com o mundo e com ela própria. Serão mais de 170 autores e personalidades\, 100 horas de conteúdo\, 200 marcas e infinitos momentos inesquecíveis. Venha ficar frente a frente com seu escritor favorito\, ver em primeira mão os lançamentos do mercado e vivenciar uma experiência única. Estamos preparando uma edição especial\, cheia de novidades. Você não pode perder.\n\n\nHorário de funcionamento:\n\n26/04 (sexta-feira) – 09h às 22h\n27\, 28/04 e 01/05 (sábado\, domingo e feriado) – 10h às 22h\n29 e 30/04 (segunda e terça) – 09h às 21h\n\n\nClassificação:\n\nA classificação etária do evento é 16 (dezesseis) anos.\nA entrada de menores de 16 (dezesseis) anos será permitida desde que estejam acompanhados dos pais ou responsáveis.\n\n \nIngressos:\n\nCrianças até um metro não pagam.\nO direito a meia entrada em eventos artísticos como ‘sala de cinema\, cineclubes\, teatros\, espetáculos musicais e circenses\, eventos educativos\, esportivos\, de lazer e de entretenimento’ é garantido aos estudantes carentes; idosos e pessoas com deficiência através da lei federal nº 12.933 de dezembro de 2013.\n\nDúvidas relacionadas ao evento: \nEntrar em contato com o SAC através do telefone ((71) 3957-7161 das 10h às 18h ou através do e-mail contato@bienaldolivrobahia.com.br
URL:https://africaatual.com.br/index.php/event/exposicao-do-livro-as-aventuras-do-besouro-macanga-na-bienal-do-livro-da-bahia-2024/
LOCATION:Avenida Octávio Mangabeira\, 5.490 Boca do Rio  Salvador\, BA\, Avenida Octávio Mangabeira\, 5.490 Boca do Rio Salvador\, BA\, Bahia\, Brasil
CATEGORIES:Eventos,Livro As Aventuras do Besouro Macangá,Notícias,Publicações
ATTACH;FMTTYPE=image/jpeg:https://africaatual.com.br/wp-content/uploads/2024/04/WhatsApp-Image-2024-04-16-at-13.04.08-1.jpeg
END:VEVENT
BEGIN:VEVENT
DTSTART;TZID=America/Sao_Paulo:20240507T080000
DTEND;TZID=America/Sao_Paulo:20240509T170000
DTSTAMP:20260421T215658
CREATED:20240417T133802Z
LAST-MODIFIED:20240417T133802Z
UID:11066-1715068800-1715274000@africaatual.com.br
SUMMARY:II Congresso Internacional 'Pessoa convida pessoas' na UnB
DESCRIPTION:II Congresso Internacional “Pessoa convida pessoas”\nO evento acadêmico e cultural “Pessoa convida pessoas nos 90 anos da Mensagem e nos 50 anos do 25 de Abril” visa reunir pesquisadores internacionais e nacionais reconhecidamente dedicados à investigação\, edição e divulgação da obra de Fernando Pessoa. \nTrata-se de um Congresso Internacional que promoverá: a divulgação da produção científica nacional e internacional no campo dos estudos pessoanos\, da literatura e da cultura portuguesa; a disseminação da obra pessoana dos anos de 1923 a 1935\, em verso e prosa\, destacando-se seu caráter de reflexão/discussão/problematização do fascismo\, da ditadura militar e do salazarismo; a atualização crítica dos participantes (docentes e discentes); a formação continuada de professores de Letras e Literatura; a ampliação e a qualificação da pesquisa em Literatura desenvolvida nos PPGs envolvidos no evento; a oferta de ação de extensão voltada ao público em geral. \nO evento Pessoa convida pessoas resulta da longeva parceria entre a Cátedra Fernando Pessoa – Universidad de los Andes/Colômbia e a Cátedra Agostinho da Silva – Universidade de Brasília/Brasil. As duas Cátedras promovem agora a segunda edição de Congresso realizado pela primeira vez em 2014\, também em Brasília.
URL:https://africaatual.com.br/index.php/event/ii-congresso-internacional-pessoa-convida-pessoas-na-unb/
LOCATION:Universidade de Brasília\, UnB/Asa Norte\, UnB - Asa Norte\, Brasília - DF\, 70910-900\, Brasília\, DF
CATEGORIES:Eventos
ATTACH;FMTTYPE=image/jpeg:https://africaatual.com.br/wp-content/uploads/2024/04/II-Congresso-Internacional-Pessoa-convida-pessoas.jpeg
END:VEVENT
BEGIN:VEVENT
DTSTART;TZID=America/Sao_Paulo:20240513T180000
DTEND;TZID=America/Sao_Paulo:20240513T190000
DTSTAMP:20260421T215658
CREATED:20240513T183023Z
LAST-MODIFIED:20240513T183048Z
UID:11298-1715623200-1715626800@africaatual.com.br
SUMMARY:Entrevista - Lau Nascimento
DESCRIPTION:13.05 \nEntrevista com Lau Nascimento no instagram \n18h – Horário de Brasília\n22h – Horário de Portugal
URL:https://africaatual.com.br/index.php/event/entrevista-lau-nascimento/
CATEGORIES:Eventos
ATTACH;FMTTYPE=image/jpeg:https://africaatual.com.br/wp-content/uploads/2024/05/WhatsApp-Image-2024-05-13-at-11.51.37.jpeg
END:VEVENT
BEGIN:VEVENT
DTSTART;TZID=America/Sao_Paulo:20240521T080000
DTEND;TZID=America/Sao_Paulo:20240521T220000
DTSTAMP:20260421T215658
CREATED:20240520T121202Z
LAST-MODIFIED:20240520T121400Z
UID:11320-1716278400-1716328800@africaatual.com.br
SUMMARY:2º ECAFRO – DESAFIOS E OPORTUNIDADES NA INSERÇÃO SOCIOECONÔMICA DE AFRICANOS E AFRO-BRASILEIROS
DESCRIPTION:Programação: \n  \nMANHÃ \n  \n8h: Palestra: Fórum de Oportunidades Brasil-África \nPalestrante: Prof. Me. Duncan Chaloba \n  \n8h30: CEAAB – Centro de Estudos Africanos e Afro-Brasileiros \nPalestrante: Comendadora Edna Lourenço \n  \n8h45: Roda de Conversa: Estudantes Africanos – PUC-Campinas \nConvidados: Tomas Sifuente Bibang Nguema Edeguedegue; \nHermenegildo de Oliveira; \nEguitainy Joaquim Gomes da Silva; \nMondlane Mateus Henrique Garcia \n  \n10h: Palestra: Afrochamber – Câmara do Comércio \nPalestrante: Presidente Rui Mucaje \n  \nNOITE \n  \n19h20: Abertura: Plataforma e Relações Institucionais \nProf. Me. Duncan Chaloba \n  \n19h35: CEAAB – Centro de Estudos Africanos e Afro-Brasileiros \nPalestrante: Profa. Dra. Waleska Miguel Batista \n  \n19h50: Palestra: cônsul geral da África do Sul – Black Economic Empowerment \nPalestrante: Sra. Tinyiko Kumalo \n  \n20h30: Roda de Conversa: Estudantes Africanos – PUC-Campinas \nConvidados: Tomas Sifuente Bibang Nguema Edeguedegue; \nHermenegildo de Oliveira; \nEguitainy Joaquim Gomes da Silva; \nMondlane Mateus Henrique Garcia \nInscreva-se: https://www.puc-campinas.edu.br/evento/2o-ecafro-desafios-e-oportunidades-na-insercao-socioeconomica-de-africanos-e-afro-brasileiros/
URL:https://africaatual.com.br/index.php/event/2o-ecafro-desafios-e-oportunidades-na-insercao-socioeconomica-de-africanos-e-afro-brasileiros/
LOCATION:PUC Minas
CATEGORIES:Eventos,Notícias
ATTACH;FMTTYPE=image/jpeg:https://africaatual.com.br/wp-content/uploads/2024/05/ebanner-ecafro-2024.jpg
END:VEVENT
BEGIN:VEVENT
DTSTART;TZID=America/Sao_Paulo:20240524T080000
DTEND;TZID=America/Sao_Paulo:20240524T170000
DTSTAMP:20260421T215658
CREATED:20240520T132419Z
LAST-MODIFIED:20240524T121722Z
UID:11330-1716537600-1716570000@africaatual.com.br
SUMMARY:Saúde Mental das Famílias Negras e dos Imigrantes: Perspectivas do PanAfricanismo
DESCRIPTION:E sob o ruflar dos tambores da mãe África\, no WA (LIVE- Webcast ASAMMPLAY) desta semana recebemos o Prof. Odair Marques. \nVamos conversar sobre a África Moderna\, Inovadora e Tecnológica\, A diáspora Africana (afrodescendentes mundo a fora)\, Panafricanismo e sobretudo\, acerca da SAÚDE MENTAL da população Negra Brasileira e dos Imigrantes. \nA conversa promete um debate rico e acalorado. Teremos surpresas para nosso público tanto acerca da Consciência Negra\, como acerca dos desafios e OPORTUNIDADES PARA IMIGRANTES. \nJá espalha nos seus grupos de whatsapp\, co.unidadrs da Webcast e convide seus amigos e familiares. Mas lembre-se: só receberá o link para participar QUEM SE INSCREVER! \n#SaudementalNegritude #SaudeMental #Africa #Afrodescendencia #Diasporasfricana #Panafricanismo #RacismoEstrutural #Preconceitoracial #RacismoInstituciomal #Imigração #Imigrantes #Xenofobia #Asammplay #Abraasuamente
URL:https://africaatual.com.br/index.php/event/saude-mental-das-familias-negras-e-dos-imigrantes-perspectivas-do-panafricanismo/
CATEGORIES:Eventos
ATTACH;FMTTYPE=image/jpeg:https://africaatual.com.br/wp-content/uploads/2024/05/WhatsApp-Image-2024-05-20-at-10.04.33-1.jpeg
END:VEVENT
BEGIN:VEVENT
DTSTART;TZID=America/Sao_Paulo:20240525T150000
DTEND;TZID=America/Sao_Paulo:20240525T170000
DTSTAMP:20260421T215658
CREATED:20240523T124256Z
LAST-MODIFIED:20240523T124749Z
UID:11340-1716649200-1716656400@africaatual.com.br
SUMMARY:Centro Cultural Casa de Angola celebra o - 25/Maio – Dia Internacional da África
DESCRIPTION:  \n25/5 no Centro Cultural Casa de Angola\, à partir das 15h \nEste dia celebra o continente africano. Foi instituído como uma agenda que\nmarca os esforços da maioria de seus 54 países contra a exploração e\ninvasões européias no continente. A proposição foi aprovada em assembléia\nda Organização de Unidade Africana em 1972\, atual União Africana. Também\ncom a adesão da ONU\, que motiva a celebração em todos os países do\nmundo.\nA atividade será no sábado\, 25 de maio de 2024\, a partir das 15:00 horas.\nO Atlas Geocultural da África convida os leitores: “incentive a celebração desta\nimportante referência às reconexões entre o Brasil e o continente africano”. E\,\na Editora Eiros disponibiliza nesta celebração a publicação da 2ª edição\natualizada do atlas(2024). Tenha um exemplar desta publicação em sua escola\ne enriqueça a comunidade escolar com informações qualificadas e inovadoras\nsobre as Áfricas.
URL:https://africaatual.com.br/index.php/event/economia-criativa-africana/
CATEGORIES:Eventos,Notícias
ATTACH;FMTTYPE=image/jpeg:https://africaatual.com.br/wp-content/uploads/2024/05/WhatsApp-Image-2024-05-22-at-09.08.46-1.jpeg
END:VEVENT
END:VCALENDAR