
BEGIN:VCALENDAR
VERSION:2.0
PRODID:-//africaatual.com.br - ECPv6.15.20//NONSGML v1.0//EN
CALSCALE:GREGORIAN
METHOD:PUBLISH
X-WR-CALNAME:africaatual.com.br
X-ORIGINAL-URL:https://africaatual.com.br
X-WR-CALDESC:Eventos para africaatual.com.br
REFRESH-INTERVAL;VALUE=DURATION:PT1H
X-Robots-Tag:noindex
X-PUBLISHED-TTL:PT1H
BEGIN:VTIMEZONE
TZID:America/Sao_Paulo
BEGIN:STANDARD
TZOFFSETFROM:-0300
TZOFFSETTO:-0300
TZNAME:-03
DTSTART:20230101T000000
END:STANDARD
END:VTIMEZONE
BEGIN:VEVENT
DTSTART;TZID=America/Sao_Paulo:20240606T080000
DTEND;TZID=America/Sao_Paulo:20240606T120000
DTSTAMP:20260421T203630
CREATED:20240604T200626Z
LAST-MODIFIED:20240604T201816Z
UID:11382-1717660800-1717675200@africaatual.com.br
SUMMARY:ENCONTRO FORMATIVO DIA INTERNACIONAL DA ÁFRICA
DESCRIPTION:Participe! \nPROGRAMAÇÃO | 06/06 – 8H\nSecretaria de Educação\nOSASCO – cidade da família\nCENTRO DE FORMAÇÃO DE PROFESSORES\nAv Marechal Rondon\, 263 – Centro – Osasco\, SP \nPALESTRANTES \nFABIANA SCHLEUMER\nDoutoranda em História pela FFLCH-USP.\nVice-coordenadora do Programa de Estudos Pós-Graduados em História da PUC-SP.\nMestre em História Social pela FFLCH-USP.\nGraduada em História pela FFLCH-USP.\nProfessora de História da Educação Básica.\nPesquisadora do Grupo de Estudos e Pesquisas Intelectuais Negras (GEINE-USP).\nAutora do livro “A Imprensa Negra Paulista (1915-1963)”. \nODAIR MARQUES\nMestrado e Doutorado pela UNICAMP e Doutorado pela UTAD/Portugal\nPalestrante e escritor (Livros Atlas Geocultural da África e “África: um passeio pelo antigo continente”\nCurador cultural do site africaatual.com.br \nRealização\nPREFEITURA DE OSASCO\nSecretaria de Educação \nCENTRO DE FORMAÇÃO DE PROFESSORES\nAv. Marechal Rondon\, 263\, Centro\, Osasco – SP”
URL:https://africaatual.com.br/index.php/event/encontro-formativo-dia-internacional-da-africa/
CATEGORIES:Eventos
ATTACH;FMTTYPE=image/jpeg:https://africaatual.com.br/wp-content/uploads/2024/06/WhatsApp-Image-2024-06-04-at-11.50.26.jpeg
END:VEVENT
BEGIN:VEVENT
DTSTART;TZID=America/Sao_Paulo:20240607T130000
DTEND;TZID=America/Sao_Paulo:20240607T170000
DTSTAMP:20260421T203630
CREATED:20240606T145037Z
LAST-MODIFIED:20240606T145146Z
UID:11388-1717765200-1717779600@africaatual.com.br
SUMMARY:Projeto 186 Apresenta: Educação Anti-Racista
DESCRIPTION:Palestra\nÁfrica Contemporânea\ncom\nOdair Marques/ Unicamp e\nRafael Pinto/conem \nBatalha Do 186\n+ Noite Do Caldinho \nApoio Editora Eiros / Realização GRATHi \nDia 07/06 a partir das 13:00\nRua Canção Do Exílio\, 186 Jd São Saverio\n“`
URL:https://africaatual.com.br/index.php/event/projeto-186-apresenta-educacao-anti-racista/
CATEGORIES:Eventos
ATTACH;FMTTYPE=image/jpeg:https://africaatual.com.br/wp-content/uploads/2024/06/WhatsApp-Image-2024-06-05-at-11.29.11.jpeg
END:VEVENT
BEGIN:VEVENT
DTSTART;TZID=America/Sao_Paulo:20240614T130000
DTEND;TZID=America/Sao_Paulo:20240614T170000
DTSTAMP:20260421T203630
CREATED:20240612T162801Z
LAST-MODIFIED:20240612T163155Z
UID:11465-1718370000-1718384400@africaatual.com.br
SUMMARY:Palestra África Contemporânea
DESCRIPTION:Projeto 186\nApresenta \nPalestra África Contemporânea\nCom\nOdair Marques/UNICAMP\nRafael Pinto/CONEN \nDIA 14/06\nAs 13:00\nEducação Anti-Racista \nApoio Editora Eiros\nRealização GRATHI \nRua Canção Do Exílio\, 186
URL:https://africaatual.com.br/index.php/event/palestra-africa-contemporanea/
LOCATION:Rua Canção do Exílio 186\, Rua Canção do Exílio 186
CATEGORIES:Eventos,Notícias
ATTACH;FMTTYPE=image/jpeg:https://africaatual.com.br/wp-content/uploads/2024/06/WhatsApp-Image-2024-06-12-at-09.24.14.jpeg
END:VEVENT
BEGIN:VEVENT
DTSTART;TZID=America/Sao_Paulo:20240615T080000
DTEND;TZID=America/Sao_Paulo:20240615T170000
DTSTAMP:20260421T203630
CREATED:20240612T163015Z
LAST-MODIFIED:20240612T163852Z
UID:11468-1718438400-1718470800@africaatual.com.br
SUMMARY:LANÇAMENTO DO LIVRO
DESCRIPTION:LANÇAMENTO DO LIVRO\nJornadas com Amadou Hampâté Bâ | Diálogos África – Brasil \nSábado 15 de junho | CAMPINAS\n13h – Abertura do Restaurante e Bazar Kekerê\n15h – Lançamento e Sessão de Autógrafos \nRainha Nzinga – Gastronomia Afro-Brasileira e Africana\nRua Antonio Manoel 84\, Vila Industrial – Campinas/SP \nAbou Bakar\nAntonio Junior \nRealização:\nRainha Nzinga\nAfro Pira\nAfro Pira\nCult SP\nSão Paulo\nSecretaria Municipal de Cultura\n“` \nSobre o Livro:\nO livro Jornadas com Amadou Hampâté Bâ: diálogos África-Brasil é o resultado do encontro de um brasileiro e um marfinense que celebram a ligação ancestral Brasil-África por meio da tradição oral que atravessa o mar Atlântico.\nA primeira parte é oriunda da pesquisa de mestrado em educação de Antonio Filogenio de Paula Junior\, defendida em 2014 na UNIMEP – Universidade Metodista de Piracicaba\, com o título Educação e oralidade no oeste africano pela representação de Amadou Hampâté Bâ. O autor busca em Hampâté Bâ a fundamentação teórica da tradição oral para pensar essa presença na cultura afro-brasileira e\, com isso\, a sua contribuição para a educação integrativa e dialógica presente nas organizações negras. \nA segunda parte é oriunda da pesquisa de doutorado em literatura brasileira de Aboua Kumassi Ko\nBlaise\, defendida em 2012 na USP – Universidade de São Paulo\, com o título Macunaíma /\nKaydara: dois espelhos face a face – Ler Macunaíma sem rir. Ao buscar no seu universo cultural de\norigem um texto ancestral registrado em forma de livro por Amadou Hampâté Bâ\, o Kaydara\, o faz\npara promover um encontro com um dos mais representativos textos de Mário de Andrade\, o\n“Macunaíma”.
URL:https://africaatual.com.br/index.php/event/projeto-186-apresenta-palestra-africa-contemporanea-com-odair-marques-unicamp-rafael-pinto-conen-dia-14-06-as-1300-educacao-anti-racista-apoio-editora-eiros-realizacao-grathi-rua-cancao-do-exilio/
LOCATION:Rainha Nzinga – Gastronomia Afro-Brasileira e Africana\, Rua Antonio Manoel 84\, Vila Industrial\, - Campinas/SP\, Brasil
CATEGORIES:Eventos,Notícias
ATTACH;FMTTYPE=image/jpeg:https://africaatual.com.br/wp-content/uploads/2024/06/WhatsApp-Image-2024-06-11-at-21.17.27.jpeg
END:VEVENT
BEGIN:VEVENT
DTSTART;TZID=America/Sao_Paulo:20240617T160000
DTEND;TZID=America/Sao_Paulo:20240617T210000
DTSTAMP:20260421T203630
CREATED:20240612T162353Z
LAST-MODIFIED:20240613T202159Z
UID:11461-1718640000-1718658000@africaatual.com.br
SUMMARY:África Hoje - Um Continente Aberto para o Futuro!
DESCRIPTION:ÁFRICA HOJE\nUm continente aberto para o futuro! \n17/06 (Seg) das 16h às 21h\nPlenário Dom Pedro I (Alesp)\n(Av. Pedro Álvares Cabral\, 201 – Moema.) \nCRONOGRAMA: \n16H – 16H40\nMESA DE ABERTURA\nÁfrica Atual e Seu Papel nos Desafios Globais\nOdair Marques da Silva (Brasil)\nKossi Telou (Togo) \n17H – 17H40\nSEGUNDA MESA\nEducação\, Arte e Cultura: Contribuições e Realidades\nJoão Canda (Angola)\nChido (Nigéria) \n18H – 18H40\nTERCEIRA MESA\nContrastes e Problemas Voltados às Comunidades Africanas em São Paulo: Propostas de Políticas Públicas\nProsper Djigang (República Democrática do Congo)\nHervé Boyomo (Camarões)\nEneka Ujor (Nigéria)\nHortense Mbuyi (República Democrática do Congo) \n19H – 21H\nATO SOLENE
URL:https://africaatual.com.br/index.php/event/africa-hoje-um-continente-aberto-para-o-futuro/
LOCATION:Av. Pedro Álvares Cabral\, 201 – Moema
CATEGORIES:Eventos,Notícias
ATTACH;FMTTYPE=image/jpeg:https://africaatual.com.br/wp-content/uploads/2024/06/448348753_1142273437098781_7572011377718516806_n.jpeg
END:VEVENT
BEGIN:VEVENT
DTSTART;TZID=America/Sao_Paulo:20240625T200000
DTEND;TZID=America/Sao_Paulo:20240625T210000
DTSTAMP:20260421T203630
CREATED:20240626T113738Z
LAST-MODIFIED:20240626T120438Z
UID:11618-1719345600-1719349200@africaatual.com.br
SUMMARY:Dia Nacional da Pessoa Migrante
DESCRIPTION:RODA DE CONVERSA VIRTUAL\nEm celebração ao Dia Nacional da Pessoa Migrante com o Panorama das migrações internacionais no município de Campinas e as tendências dos fluxos migratórios no território nacional.\nDIA 25 DEJUNHO ÁS 20H – Transmissão Online \nConvidada(os) \nConstance Salawe (Origem de Camarões e de nacionalidade Nigeriana)\nVice-presidenta do Conselho Municipal de Imigrantes\, Psico-sociologia\, Turismo e Viagens\, Professora de Francês. Voluntária de Acolhimento no Instituto ADUS. Defensora dos direitos humanos\, em especial da defesa das pessoas migrantes. \nEzequiel Chissonde\, Médico (Angolano)\nAtuante em causas de Afrodescendentes através do INSTITUTO ABRAASUAMENTE (Saúde Mental) e ASAMMPLAY BLACK (Consciência Negra) \nProf. Dr. Odair Marques da Silva.\nÉ professor universitário\, palestrante e escritor. Possui Mestrado na Unicamp e Doutorado na UTAD\, universidade em Portugal. Autor do Atlas Geocultural da África e\, atualmente\, Diretor do Centro de Estudos e Pesquisas em Justiça Racial\, Ambiental\, e Mudanças Climáticas\, da Universidade Zumbi dos Palmares. \n#xenofobiaÉcrime\n#racismoÉcrime
URL:https://africaatual.com.br/index.php/event/dia-nacional-da-pessoa-migrante/
CATEGORIES:Eventos
ATTACH;FMTTYPE=image/jpeg:https://africaatual.com.br/wp-content/uploads/2024/06/WhatsApp-Image-2024-06-24-at-20.43.08.jpeg
END:VEVENT
END:VCALENDAR