
BEGIN:VCALENDAR
VERSION:2.0
PRODID:-//africaatual.com.br - ECPv6.15.20//NONSGML v1.0//EN
CALSCALE:GREGORIAN
METHOD:PUBLISH
X-WR-CALNAME:africaatual.com.br
X-ORIGINAL-URL:https://africaatual.com.br
X-WR-CALDESC:Eventos para africaatual.com.br
REFRESH-INTERVAL;VALUE=DURATION:PT1H
X-Robots-Tag:noindex
X-PUBLISHED-TTL:PT1H
BEGIN:VTIMEZONE
TZID:America/Sao_Paulo
BEGIN:STANDARD
TZOFFSETFROM:-0300
TZOFFSETTO:-0300
TZNAME:-03
DTSTART:20230101T000000
END:STANDARD
END:VTIMEZONE
BEGIN:VEVENT
DTSTART;TZID=America/Sao_Paulo:20241101T080000
DTEND;TZID=America/Sao_Paulo:20241101T170000
DTSTAMP:20260421T144445
CREATED:20241021T002128Z
LAST-MODIFIED:20241021T002516Z
UID:12258-1730448000-1730480400@africaatual.com.br
SUMMARY:10ª Edição do Fórum Brasil Diverso
DESCRIPTION:🚨 Faltam apenas 15 dias para a 10ª Edição do Fórum Brasil Diverso! 🚨 \nNos dias 31 de outubro e 1º de novembro\, o icônico Memorial da América Latina será palco de debates imperdíveis e celebrações incríveis que marcam uma década de evento. 🎉 \nSerão mais de 40 palestrantes nacionais e internacionais discutindo diversidade e inclusão\, além de um show especial do cantor Simoninha. 🎤🎶 \nE tem mais! Fique ligado para descobrir outras grandes atrações! 😱👀 \nJá fez sua inscrição? Não perca tempo! Inscreva-se agora para garantir seu lugar nos debates\, shows e ainda sair com certificado universitário! 📜✨ \n🔗 Inscreva-se no site: www.forumbrasildiverso.org \nJá garantiu sua participação? Salve nosso contato e fique por dentro de todas as novidades que estão por vir! \n#ForumBrasilDiverso #Diversidade #Inclusão #Debates #Shows #Simoninha #MemorialDaAmericaLatina \n\nhttp://africaatual.com.br/wp-content/uploads/2024/10/simoninha.mp4
URL:https://africaatual.com.br/index.php/event/10a-edicao-do-forum-brasil-diverso/
CATEGORIES:Eventos,Notícias
ATTACH;FMTTYPE=image/jpeg:https://africaatual.com.br/wp-content/uploads/2024/10/simoninha.jpg
END:VEVENT
BEGIN:VEVENT
DTSTART;TZID=America/Sao_Paulo:20241105T080000
DTEND;TZID=America/Sao_Paulo:20241129T170000
DTSTAMP:20260421T144445
CREATED:20241021T005906Z
LAST-MODIFIED:20241021T005923Z
UID:12264-1730793600-1732899600@africaatual.com.br
SUMMARY:Mostra Cultural Afrifuturista 2024
DESCRIPTION:Prepare-se para uma imersão cultural única! A Mostra Cultural Afrifuturista está chegando\, e você está convidado a explorar o melhor da África moderna e contemporânea. Venha descobrir como as expressões artísticas\, tecnológicas e culturais africanas estão moldando o futuro em uma exposição inovadora\, que acontecerá na Casa do Museu de Vidro\, em Campinas\, de 5 a 29 de novembro. \nSaiba mais aqui: https://africaatual.com.br/index.php/2024/10/14/mostra-cultural-afrifuturista-exibe-a-africa-moderna-e-contemporanea/ \nServiço: \nData: de 05/11 a 29/11 \nHorário: 10h00 às 17h00 \nHorários diferenciados para salas de EJA/universitários no período da noite (consultar a equipe do Museu) \nLocal: Museu da Cidade – Casa de Vidro \nEndereço: Av. Dr. Heitor Penteado\, 2145 – Parque Taquaral. \n9:00 às 12:00 e 14:00 às 17:00. \nVerificar agendamento no (museudacidade@campinas.sp.gov.br) ou \nsite do Museu (https://conheca.campinas.sp.gov.br/pois/1178). \nMais informações \nAdriana Barão – (19) 3755-6010 \nConheça as edições dos outros anos: https://africaatual.com.br/index.php/mostra-cultural-afrofuturista/
URL:https://africaatual.com.br/index.php/event/mostra-cultural-afrifuturista-2024/
LOCATION:Museu da Cidade – Casa de Vidro\, Avenida Dr. Heitor Penteado\, 2145 – Parque Taquaral.\, Campinas\, Brasil
CATEGORIES:Eventos,Notícias
ATTACH;FMTTYPE=image/jpeg:https://africaatual.com.br/wp-content/uploads/2024/10/MOSTRA-CULTURAL-AFRIFUTURISTA-1.jpg
END:VEVENT
BEGIN:VEVENT
DTSTART;TZID=America/Sao_Paulo:20241110T100000
DTEND;TZID=America/Sao_Paulo:20241110T200000
DTSTAMP:20260421T144445
CREATED:20241007T182855Z
LAST-MODIFIED:20241007T182941Z
UID:12072-1731232800-1731268800@africaatual.com.br
SUMMARY:Feira Cultural Angolana em SP
DESCRIPTION:No dia 10 de novembro de 2024\, participe de uma imersão na cultura angolana em São Paulo! Venha celebrar o 49º Aniversário da Independência de Angola com muita música\, dança\, artesanato e a famosa Batalha de Kuduru. Entrada gratuita! Não perca! 🇦🇴✨ \n📅 Data: 10 de novembro de 2024\n📍 Local: Rua José de Alencar\, Brás – São Paulo\n🕒 Horário: 10h00 às 20h00 \nConfira mais detalhes e a programação completa:\n🔗 Clique aqui: https://africaatual.com.br/index.php/2024/10/07/feira-cultural-angolana-sao-paulo/
URL:https://africaatual.com.br/index.php/event/12072/
CATEGORIES:Eventos,Feira Cultural
ATTACH;FMTTYPE=image/jpeg:https://africaatual.com.br/wp-content/uploads/2024/10/O-BNDES-Garagem-e-o-programa-do-Banco-Nacional-de-Desenvolvimento-Economico-e-Social-BNDES-de-incentivo-a-startups-que-promove-e-incentiva-acoes-empreendedoras-em-todo-o-Brasil.-A-iniciativa-e-u-1.jpg
END:VEVENT
BEGIN:VEVENT
DTSTART;TZID=America/Sao_Paulo:20241116T140000
DTEND;TZID=America/Sao_Paulo:20241116T180000
DTSTAMP:20260421T144445
CREATED:20241113T142925Z
LAST-MODIFIED:20241113T142925Z
UID:12329-1731765600-1731780000@africaatual.com.br
SUMMARY:Atlas Geocultural da África na FlinkSampa 2024
DESCRIPTION:O Professor Odair Marques estará presente com seu livro\, “Atlas Geocultural da África”\, no dia 16/11\, das 14h às 18h\, no Campus da Universidade Zumbi dos Palmares. Não perca a chance de encontrá-lo e prestigiar esse trabalho importante! \nAlém disso\, a FlinkSampa deste ano contará com atividades no Sesc Pompéia\, onde várias editoras estarão expondo seus livros. Afroempreendedores também terão espaço para apresentar e comercializar seus produtos. O evento incluirá palestras e debates voltados para professores\, estudantes e o público geral. \nLocal e Data Principal para o Encontro com o Professor Odair Marques: 🗓 Dia 16 de novembro de 2024\n⏰ Das 14h às 18h\n📍 Campus da Universidade Zumbi dos Palmares\nAv. Santos Dumont\, 843 – Bom Retiro – SP (entrada pelo Clube Tietê | Metrô Armênia)\n📞 Tel.: 11 3325-1000 \nNão perca essa celebração de cultura e conhecimento! Venha curtir a FlinkSampa conosco! \nProgramação completa em: https://flinksampa.com.br/
URL:https://africaatual.com.br/index.php/event/atlas-geocultural-da-africa-na-flinksampa-2024/
CATEGORIES:Eventos,Notícias
ATTACH;FMTTYPE=image/jpeg:https://africaatual.com.br/wp-content/uploads/2024/11/🗓-Dia-16-de-novembro2024-⏰-Das-14h-as-18h00-Local-Campus-da-Universidade-Zumbi-dos-Palmares-Av.-Santos-Dumont-843-–-Bom-Retiro-–-SP-entrada-pelo-Clube-Tiete-Metro-Armenia-Tel.-11-3325-1000-zu-1.jpg
END:VEVENT
BEGIN:VEVENT
DTSTART;TZID=America/Sao_Paulo:20241128T080000
DTEND;TZID=America/Sao_Paulo:20241130T170000
DTSTAMP:20260421T144445
CREATED:20241021T001500Z
LAST-MODIFIED:20241021T001822Z
UID:12252-1732780800-1732986000@africaatual.com.br
SUMMARY:1º International Summit on Diaspora Migration and Remittance
DESCRIPTION:Participe do Lisbon Summit 2024: Migração e Remessas da Diáspora\, África\, América e Europa! Um encontro internacional para debater as oportunidades e desafios das migrações globais\, com foco no desenvolvimento econômico e social das diásporas. De 28 a 30 de novembro\, em Lisboa. Inscreva-se e faça parte desse diálogo global!\nEm destaque\, o Comendador José Ferreira Faria de Morais\, que será um dos palestrantes\, na a sessão inaugural do projeto “Decade of Dialogue 2025-2035” no 1º International Summit on Diaspora Migration and Remittance.
URL:https://africaatual.com.br/index.php/event/1o-international-summit-on-diaspora-migration-and-remittance/
CATEGORIES:Eventos,Notícias
ATTACH;FMTTYPE=image/jpeg:https://africaatual.com.br/wp-content/uploads/2024/10/enauguralsection2.jpg
END:VEVENT
END:VCALENDAR