
BEGIN:VCALENDAR
VERSION:2.0
PRODID:-//africaatual.com.br - ECPv6.15.20//NONSGML v1.0//EN
CALSCALE:GREGORIAN
METHOD:PUBLISH
X-WR-CALNAME:africaatual.com.br
X-ORIGINAL-URL:https://africaatual.com.br
X-WR-CALDESC:Eventos para africaatual.com.br
REFRESH-INTERVAL;VALUE=DURATION:PT1H
X-Robots-Tag:noindex
X-PUBLISHED-TTL:PT1H
BEGIN:VTIMEZONE
TZID:America/Sao_Paulo
BEGIN:STANDARD
TZOFFSETFROM:-0300
TZOFFSETTO:-0300
TZNAME:-03
DTSTART:20240101T000000
END:STANDARD
END:VTIMEZONE
BEGIN:VEVENT
DTSTART;TZID=America/Sao_Paulo:20250213T140000
DTEND;TZID=America/Sao_Paulo:20250213T170000
DTSTAMP:20260421T103420
CREATED:20250212T205248Z
LAST-MODIFIED:20250212T205516Z
UID:12387-1739455200-1739466000@africaatual.com.br
SUMMARY:Ações Afirmativas e Educação: diálogos África do Sul e Brasil
DESCRIPTION:📢 Imperdível! \nParticipe da palestra “Ações Afirmativas e Educação: diálogos África do Sul e Brasil”\, com o Dr. Siyabulela Mandela! 🖤✨ \n📅 Data: 13 de fevereiro\n⏰ Horário: 14h às 17h\n📍 Local: Auditório Prof.ª Dr.ª Ieda Maria Longo Maugeri\, Prédio da Reitoria da Unifesp (Rua Sena Madureira\, 1500 – térreo)\n🎟️ Inscrições: https://siex.siiu.unifesp.br/catalogo-siex/27078/mais-info \nUm evento essencial para refletirmos sobre educação e ações afirmativas\, conectando Brasil e África do Sul! 🌍📚 \nRealização: Ebony English\, PRAEPA\, Unifesp e Laroyê Grupo de Pesquisa \n#EducaçãoAntirracista #AçõesAfirmativas #Unifesp #DiálogosSulSul #SiyabulelaMandela #laroyêgrupodepesquisa
URL:https://africaatual.com.br/index.php/event/acoes-afirmativas-e-educacao-dialogos-africa-do-sul-e-brasil/
CATEGORIES:Eventos
ATTACH;FMTTYPE=image/jpeg:https://africaatual.com.br/wp-content/uploads/2025/02/477781505_1775791973210508_4764416444094169398_n.jpg
END:VEVENT
BEGIN:VEVENT
DTSTART;TZID=America/Sao_Paulo:20250228T080000
DTEND;TZID=America/Sao_Paulo:20250330T170000
DTSTAMP:20260421T103420
CREATED:20250225T181122Z
LAST-MODIFIED:20250225T181122Z
UID:12449-1740729600-1743354000@africaatual.com.br
SUMMARY:Abertura de Inscrições - Conferência Municipal de Promoção da Igualdade Racial
DESCRIPTION:As inscrições para a nossa Conferência Municipal de Promoção da Igualdade Racial já estão abertas! O evento acontecerá nos dias 28\, 29 e 30 de março nos seguintes horários: \n📅 28/03: 18h às 22h📅 29/03: 09h às 19h📅 30/03: 09h às 19h \nEm breve\, divulgaremos o local do evento. Estamos preparando tudo com muito cuidado para recebê-los da melhor forma possível! ✨ \n🔗 Link para inscrição: https://www.sympla.com.br/evento/conferencia-municipal-de-promocao-da-igualdade-racial—edicao-2025/2834141 \nTem dúvidas? Nosso plantão de dúvidas está disponível no WhatsApp do Departamento de Participação Social.Clique no link para mais informações: https://wa.me/5511938033526 \nNão perca a chance de participar desse momento importante para a promoção da igualdade racial em nossa cidade! \n🎥 O vídeo abaixo ensina como se inscrever e retirar seu ingresso 🎟
URL:https://africaatual.com.br/index.php/event/abertura-de-inscricoes-conferencia-municipal-de-promocao-da-igualdade-racial/
CATEGORIES:Eventos,Notícias
END:VEVENT
END:VCALENDAR