
BEGIN:VCALENDAR
VERSION:2.0
PRODID:-//africaatual.com.br - ECPv6.15.20//NONSGML v1.0//EN
CALSCALE:GREGORIAN
METHOD:PUBLISH
X-WR-CALNAME:africaatual.com.br
X-ORIGINAL-URL:https://africaatual.com.br
X-WR-CALDESC:Eventos para africaatual.com.br
REFRESH-INTERVAL;VALUE=DURATION:PT1H
X-Robots-Tag:noindex
X-PUBLISHED-TTL:PT1H
BEGIN:VTIMEZONE
TZID:America/Sao_Paulo
BEGIN:STANDARD
TZOFFSETFROM:-0300
TZOFFSETTO:-0300
TZNAME:-03
DTSTART:20230101T000000
END:STANDARD
END:VTIMEZONE
BEGIN:VEVENT
DTSTART;TZID=America/Sao_Paulo:20240418T080000
DTEND;TZID=America/Sao_Paulo:20240512T170000
DTSTAMP:20260421T231039
CREATED:20240423T102650Z
LAST-MODIFIED:20240423T102822Z
UID:11101-1713427200-1715533200@africaatual.com.br
SUMMARY:Espetáculo musical "Bertoleza"
DESCRIPTION:O espetáculo musical “Bertoleza” é uma adaptação do livro “O Cortiço” de Aluísio Azevedo\, romance clássico da literatura naturalista brasileira\, em que o protagonismo é trocado. Dessa vez\, Bertoleza é a personagem que conduz a trama cujo enredo retrata as dificuldades de existência naquela época (final do século XIX). Mas a partir desta nova ótica\, a protagonista coloca em diálogo as histórias soterradas para que\, uma vez identificadas\, façam florescer a possibilidade de sonhar com horizontes onde o respeito seja possível. \nPara enriquecer a montagem\, é feita uma alusão à contribuição e pioneirismo de algumas personalidades negras que permanecem às escondidas e que\, buscando mesclar vivências\, propõe-se provocar a reflexão sobre a sistematização do apagamento de mulheres pretas\, suas falas e espaços sociais. A primeira Deputada Federal negra do país\, Antonieta de Barros; a primeira escritora publicada na América Latina\, Maria Firmino dos Reis; a catadora de papel que se tornou poetisa e teve sua obra traduzida em diversas línguas\, Carolina Maria de Jesus; a vereadora brutalmente assassinada por pautar e defender os Direitos Humanos\, Mariele Franco. \nApós vencer a Convocatória 2023 do Instituto Brasileiro de Teatro\, o vencedor do Prêmio APCA 2020 na categoria “Espetáculo” retorna aos palcos para uma curta temporada no Teatro Paulo Eiró\, em São Paulo.
URL:https://africaatual.com.br/index.php/event/espetaculo-musical-bertoleza/
LOCATION:Av. Adolfo Pinheiro\, 765 – Santo Amaro\, São Paulo – SP\, Av. Adolfo Pinheiro\, 765 - Santo Amaro\, São Paulo - SP\, Brasil
CATEGORIES:Eventos,Notícias
ATTACH;FMTTYPE=image/jpeg:https://africaatual.com.br/wp-content/uploads/2024/04/395bf397-7867-4958-ad15-a4353c62b0aa.jpeg
END:VEVENT
BEGIN:VEVENT
DTSTART;VALUE=DATE:20240426
DTEND;VALUE=DATE:20240502
DTSTAMP:20260421T231039
CREATED:20240417T133047Z
LAST-MODIFIED:20240417T133121Z
UID:11060-1714089600-1714607999@africaatual.com.br
SUMMARY:Exposição do Livro 'As Aventuras do Besouro Macangá' na Bienal do Livro da Bahia 2024
DESCRIPTION:Exposição do Livro ‘As Aventuras do Besouro Macangá’ na Bienal do Livro da Bahia 2024\nDescrição do evento \n\n\nA Bienal do Livro da Bahia\, que acontece em Salvador entre 26 de abril e 01 de maio\, faz da capital baiana um ponto de (re)encontro da Bahia com o Brasil\, com o mundo e com ela própria. Serão mais de 170 autores e personalidades\, 100 horas de conteúdo\, 200 marcas e infinitos momentos inesquecíveis. Venha ficar frente a frente com seu escritor favorito\, ver em primeira mão os lançamentos do mercado e vivenciar uma experiência única. Estamos preparando uma edição especial\, cheia de novidades. Você não pode perder.\n\n\nHorário de funcionamento:\n\n26/04 (sexta-feira) – 09h às 22h\n27\, 28/04 e 01/05 (sábado\, domingo e feriado) – 10h às 22h\n29 e 30/04 (segunda e terça) – 09h às 21h\n\n\nClassificação:\n\nA classificação etária do evento é 16 (dezesseis) anos.\nA entrada de menores de 16 (dezesseis) anos será permitida desde que estejam acompanhados dos pais ou responsáveis.\n\n \nIngressos:\n\nCrianças até um metro não pagam.\nO direito a meia entrada em eventos artísticos como ‘sala de cinema\, cineclubes\, teatros\, espetáculos musicais e circenses\, eventos educativos\, esportivos\, de lazer e de entretenimento’ é garantido aos estudantes carentes; idosos e pessoas com deficiência através da lei federal nº 12.933 de dezembro de 2013.\n\nDúvidas relacionadas ao evento: \nEntrar em contato com o SAC através do telefone ((71) 3957-7161 das 10h às 18h ou através do e-mail contato@bienaldolivrobahia.com.br
URL:https://africaatual.com.br/index.php/event/exposicao-do-livro-as-aventuras-do-besouro-macanga-na-bienal-do-livro-da-bahia-2024/
LOCATION:Avenida Octávio Mangabeira\, 5.490 Boca do Rio  Salvador\, BA\, Avenida Octávio Mangabeira\, 5.490 Boca do Rio Salvador\, BA\, Bahia\, Brasil
CATEGORIES:Eventos,Livro As Aventuras do Besouro Macangá,Notícias,Publicações
ATTACH;FMTTYPE=image/jpeg:https://africaatual.com.br/wp-content/uploads/2024/04/WhatsApp-Image-2024-04-16-at-13.04.08-1.jpeg
END:VEVENT
END:VCALENDAR