
BEGIN:VCALENDAR
VERSION:2.0
PRODID:-//africaatual.com.br - ECPv6.15.20//NONSGML v1.0//EN
CALSCALE:GREGORIAN
METHOD:PUBLISH
X-ORIGINAL-URL:https://africaatual.com.br
X-WR-CALDESC:Eventos para africaatual.com.br
REFRESH-INTERVAL;VALUE=DURATION:PT1H
X-Robots-Tag:noindex
X-PUBLISHED-TTL:PT1H
BEGIN:VTIMEZONE
TZID:America/Sao_Paulo
BEGIN:STANDARD
TZOFFSETFROM:-0300
TZOFFSETTO:-0300
TZNAME:-03
DTSTART:20230101T000000
END:STANDARD
END:VTIMEZONE
BEGIN:VEVENT
DTSTART;TZID=America/Sao_Paulo:20240524T080000
DTEND;TZID=America/Sao_Paulo:20240524T170000
DTSTAMP:20260421T231803
CREATED:20240520T132419Z
LAST-MODIFIED:20240524T121722Z
UID:11330-1716537600-1716570000@africaatual.com.br
SUMMARY:Saúde Mental das Famílias Negras e dos Imigrantes: Perspectivas do PanAfricanismo
DESCRIPTION:E sob o ruflar dos tambores da mãe África\, no WA (LIVE- Webcast ASAMMPLAY) desta semana recebemos o Prof. Odair Marques. \nVamos conversar sobre a África Moderna\, Inovadora e Tecnológica\, A diáspora Africana (afrodescendentes mundo a fora)\, Panafricanismo e sobretudo\, acerca da SAÚDE MENTAL da população Negra Brasileira e dos Imigrantes. \nA conversa promete um debate rico e acalorado. Teremos surpresas para nosso público tanto acerca da Consciência Negra\, como acerca dos desafios e OPORTUNIDADES PARA IMIGRANTES. \nJá espalha nos seus grupos de whatsapp\, co.unidadrs da Webcast e convide seus amigos e familiares. Mas lembre-se: só receberá o link para participar QUEM SE INSCREVER! \n#SaudementalNegritude #SaudeMental #Africa #Afrodescendencia #Diasporasfricana #Panafricanismo #RacismoEstrutural #Preconceitoracial #RacismoInstituciomal #Imigração #Imigrantes #Xenofobia #Asammplay #Abraasuamente
URL:https://africaatual.com.br/index.php/event/saude-mental-das-familias-negras-e-dos-imigrantes-perspectivas-do-panafricanismo/
CATEGORIES:Eventos
ATTACH;FMTTYPE=image/jpeg:https://africaatual.com.br/wp-content/uploads/2024/05/WhatsApp-Image-2024-05-20-at-10.04.33-1.jpeg
END:VEVENT
END:VCALENDAR