
BEGIN:VCALENDAR
VERSION:2.0
PRODID:-//africaatual.com.br - ECPv6.15.20//NONSGML v1.0//EN
CALSCALE:GREGORIAN
METHOD:PUBLISH
X-WR-CALNAME:africaatual.com.br
X-ORIGINAL-URL:https://africaatual.com.br
X-WR-CALDESC:Eventos para africaatual.com.br
REFRESH-INTERVAL;VALUE=DURATION:PT1H
X-Robots-Tag:noindex
X-PUBLISHED-TTL:PT1H
BEGIN:VTIMEZONE
TZID:America/Sao_Paulo
BEGIN:STANDARD
TZOFFSETFROM:-0300
TZOFFSETTO:-0300
TZNAME:-03
DTSTART:20230101T000000
END:STANDARD
END:VTIMEZONE
BEGIN:VEVENT
DTSTART;VALUE=DATE:20240706
DTEND;VALUE=DATE:20240708
DTSTAMP:20260421T203911
CREATED:20240623T115220Z
LAST-MODIFIED:20240623T115659Z
UID:11593-1720224000-1720396799@africaatual.com.br
SUMMARY:CENTENÁRIO BESOURO MANGANGA
DESCRIPTION:PROGRAMAÇÃO COMPLETA: \n06/07 – SÁBADO\n09h – Apresentação do filme: “A verdadeira história de Besouro\nMangangá” – Público infantil e juvenil\nLocal: Arquivo Público de Santo Amaro (Espaço A) \n09h – Roda de Conversas / Tema: Dificuldades para pesquisar e\npublicação de informações sobre a cultura e história do\nRecôncavo Baiano. \nO encontro iniciará com a prof.ª Dr. Ana Rita\, logo após\, teremos\ndez minutos de cantoria com Mestre Carcará de Santo Amaro e\nmais dez minutos de cantoria com Mestre Felipe. Em seguida\,\nserá direcionada a palavra para os outros integrantes da Mesa.\nMediador: Me Sidney\nConvidados e Convidadas: Prof.ª Ana Rita; Me Tonho Matéria; Me\nCarcará; Me Felipe; Me Antônio Lampião; Me Tchê; Me Papel; Me\nLimãozinho; Associação do Quilombo do Cambuta; Me Zedario. \nTeremos também como convidado\, um membro da Família\ndo Me Besouro de Mangangá. \nLocal: UFRB/CECULT\, antigo Pedro Lago (Espaço B)\n*Observação: A apresentação do filme e a roda de\nconversas ocorrerão de forma simultânea.\n12h – Almoço\n15h – Roda de Capoeira\nLocal: Praça da Purificação\n18h – Apresentação do filme: “A verdadeira história de\nBesouro Mangangá” – Público livre\nLocal: Arquivo Público de Santo Amaro \n07/07 – DOMINGO\n07h30 – Café da Manhã\nLocal: CECULT/UFRB\, antigo Pedro Lago\n09h00 – Oficina de Capoeira: Voltando ao Passado\nLocal: CECULT/UFRB\, antigo Pedro Lago\n10h30 – Roda de Capoeira\nLocal: CECULT/UFRB\, antigo Pedro Lago\n12h00 – Almoço\n14h00 – Inauguração da placa de homenagem ao Mestre Besouro\nLocal: Cemitério de Santo Amaro\n15h00 – Encerramento: Roda de Capoeira Tradicional\nLocal: Praça da Purificação\n* Sugestão de Abadá: O uso será livre\, porém sugerimos não utilizar\nabadá todo branco e graduação. \nREALIZAÇÃO:\nΑΡΟΙΟ:\nCONTATO: 75 98155-0059\nCAPOEIRASHOP
URL:https://africaatual.com.br/index.php/event/centenario-besouro-manganga/
CATEGORIES:Eventos,Notícias,Seminário
ATTACH;FMTTYPE=image/jpeg:https://africaatual.com.br/wp-content/uploads/2024/06/huila-3.jpg
END:VEVENT
END:VCALENDAR