
BEGIN:VCALENDAR
VERSION:2.0
PRODID:-//africaatual.com.br - ECPv6.15.20//NONSGML v1.0//EN
CALSCALE:GREGORIAN
METHOD:PUBLISH
X-ORIGINAL-URL:https://africaatual.com.br
X-WR-CALDESC:Eventos para africaatual.com.br
REFRESH-INTERVAL;VALUE=DURATION:PT1H
X-Robots-Tag:noindex
X-PUBLISHED-TTL:PT1H
BEGIN:VTIMEZONE
TZID:America/Sao_Paulo
BEGIN:STANDARD
TZOFFSETFROM:-0300
TZOFFSETTO:-0300
TZNAME:-03
DTSTART:20230101T000000
END:STANDARD
END:VTIMEZONE
BEGIN:VEVENT
DTSTART;TZID=America/Sao_Paulo:20240801T080000
DTEND;TZID=America/Sao_Paulo:20240807T170000
DTSTAMP:20260421T193058
CREATED:20240802T130323Z
LAST-MODIFIED:20240802T175903Z
UID:11745-1722499200-1723050000@africaatual.com.br
SUMMARY:Mostra de Cinema Angolano em São Paulo
DESCRIPTION:A entrada para a mostra é gratuita e aberta ao público. A programação completa\, incluindo horários e sinopses dos filmes\, estará disponível no site África Atual\,  SPCine e no Instagram da Casa de Angola. \n01 a 07 de Agosto 2024 \nNO CENTRO CULTURAL SÃO PAULO – CCSP\nRIQUEZAS DE ANGOLA \nEXIBIÇÃO\n• MWANA NKENTO – Dia 1 às 19h.\n• SEPARADOS- Dia 2 às 17h.\n• MUTUMBI – Dia 2 às 19h.\n• O SILÊNCIO – Dia 3 às 19h.\n• WEZA – Dia 4 às 19h.\n• LASTIMÁVEL – Dia 6 às 17h.\n• CHADUKA – Dia 6 às 19h.\n• O EMIGRANTE – Dia 7 às 19h.\nWORKSHOP – Sáb\, 3/07 \nÀS 15h\, 16h e 17h – Sala de Cinema SPCINE\n• TURISMO CINEMATOGRÁFICO\n• DESAFIOS DA PRODUÇÃO INDEPENDENTE EM\nANGOLA.\n• CINEMA\, UM MERCADO COMO DINAMIZADOR\nDE UM PAÍS/ LEIS DE INCENTIVOS PARA\nPROFISSIONAIS DO AUDIOVISUAL \nConvidados: Erica Chissapa\, Nill Marcondes\,\nLevis Albano\, Ermi Panzo\, Miguel Kalahari e\nLicínio Januário.\nMediador: Isidro Sanene\nRUA VERGUEIRO\, 1000 – LIBERDADE \nRealização\nCENTRO\nCULTURAL\nCASA DE\nANGOLA\nsen lar mwangali \nPatrocínio\nCIDADE DE\nSÃO PAULO \nConfira a PROGRAMAÇÃO CINEMA ANGOLANO EM SÃO PAULO
URL:https://africaatual.com.br/index.php/event/mostra-cinema-angolano-sp/
LOCATION:CENTRO CULTURAL SÃO PAULO – CCSP\, Rua Vergueiro 1000 - Liberdade\, Brasil
CATEGORIES:Cinema,Eventos
ATTACH;FMTTYPE=image/webp:https://africaatual.com.br/wp-content/uploads/2024/08/Imagem-do-WhatsApp-de-2024-07-31-as-13.43.41_ebae3343.webp
END:VEVENT
END:VCALENDAR