
BEGIN:VCALENDAR
VERSION:2.0
PRODID:-//africaatual.com.br - ECPv6.15.20//NONSGML v1.0//EN
CALSCALE:GREGORIAN
METHOD:PUBLISH
X-WR-CALNAME:africaatual.com.br
X-ORIGINAL-URL:https://africaatual.com.br
X-WR-CALDESC:Eventos para africaatual.com.br
REFRESH-INTERVAL;VALUE=DURATION:PT1H
X-Robots-Tag:noindex
X-PUBLISHED-TTL:PT1H
BEGIN:VTIMEZONE
TZID:America/Sao_Paulo
BEGIN:STANDARD
TZOFFSETFROM:-0300
TZOFFSETTO:-0300
TZNAME:-03
DTSTART:20230101T000000
END:STANDARD
END:VTIMEZONE
BEGIN:VEVENT
DTSTART;TZID=America/Sao_Paulo:20240819T080000
DTEND;TZID=America/Sao_Paulo:20240830T170000
DTSTAMP:20260421T192916
CREATED:20240627T181713Z
LAST-MODIFIED:20240627T181713Z
UID:11657-1724054400-1725037200@africaatual.com.br
SUMMARY:Missão Empresarial à África
DESCRIPTION:☝🏻Missão África 2024 para Namíbia\, Botswana\, Moçambique e Tanzânia. \nInscrições gratuitas e até dia 28/6. Atenção! Termina em 2 dias! 🌍 \nO evento ocorrerá de 19 a 30 de agosto. São 12 dias de seminários\, visitas técnicas e reuniões B2B\, incluindo a visita a FACIM em Moçambique. ✈️ \nO processo de seleção das empresas está a cargo do MRE. \n➡️Leia o regulamento aqui: https://bit.ly/45GhLLr \n➡️Faça as sua\nInscrição aqui: https://bit.ly/3Ruuxqd \nVem com a gente! Ubuntu!🙌🏽
URL:https://africaatual.com.br/index.php/event/missao-empresarial-a-africa/
CATEGORIES:Eventos,Notícias
ATTACH;FMTTYPE=image/jpeg:https://africaatual.com.br/wp-content/uploads/2024/06/WhatsApp-Image-2024-06-26-at-15.09.30-1.jpeg
END:VEVENT
END:VCALENDAR