
BEGIN:VCALENDAR
VERSION:2.0
PRODID:-//africaatual.com.br - ECPv6.15.20//NONSGML v1.0//EN
CALSCALE:GREGORIAN
METHOD:PUBLISH
X-WR-CALNAME:africaatual.com.br
X-ORIGINAL-URL:https://africaatual.com.br
X-WR-CALDESC:Eventos para africaatual.com.br
REFRESH-INTERVAL;VALUE=DURATION:PT1H
X-Robots-Tag:noindex
X-PUBLISHED-TTL:PT1H
BEGIN:VTIMEZONE
TZID:America/Sao_Paulo
BEGIN:STANDARD
TZOFFSETFROM:-0300
TZOFFSETTO:-0300
TZNAME:-03
DTSTART:20230101T000000
END:STANDARD
END:VTIMEZONE
BEGIN:VEVENT
DTSTART;TZID=America/Sao_Paulo:20241025T080000
DTEND;TZID=America/Sao_Paulo:20241025T173000
DTSTAMP:20260421T171301
CREATED:20241007T150109Z
LAST-MODIFIED:20241007T152452Z
UID:12039-1729843200-1729877400@africaatual.com.br
SUMMARY:Workshop Internacional sobre Metodologia da Investigação Científica
DESCRIPTION:O workshop sobre investigação científica para inovação e negócios vai abordar como o conhecimento acadêmico pode impulsionar o desenvolvimento empresarial. A 3ª Edição do Workshop Internacional será realizada no dia 25 de Outubro de 2024\, das 08h00 às 17h30\, na Mediateca Zé Du – Cazenga. O evento trará como tema central: \n“A Metodologia da Investigação Científica no Ambiente Acadêmico e sua Influência no Desenvolvimento de Negócios”. \nObjetivo do Evento:\nEste workshop tem como finalidade discutir a importância da metodologia científica dentro das universidades e sua aplicação no desenvolvimento de negócios e inovação. O evento reunirá especialistas e acadêmicos renomados\, com uma programação rica em debates\, palestras e workshops práticos. \nInformações do Evento:\n\nData: 25 de Outubro de 2024\nHorário: 08h00 às 17h30\nLocal: Mediateca Zé Du – Cazenga\nInscrições: Abertas\n\nContato para mais informações: +244 923 607 722 | +244 927 654 328\n\n\n\nPreletores Confirmados:\n\nProf. Doutor Henrique Fernandes\nPesquisador e professor com expertise em Direito\, Ciências Políticas e Administração (Brasil e EUA).\nProf. Doutor Jerónimo Sunguahanga\nDocente Universitário\, Especialista em Economia e Consultor Científico.\nProf. Doutora Ana João\nDocente em Ciências Ambientais\, Investigadora e Consultora Científica.\nProf. Doutor Gaspar João\nEconomista e Docente Universitário.\nProf. Doutora Bibiana Gomes\nDocente na UAN e Investigadora no Instituto João Paulo II da UCAN.\nProf. Doutor Carlos de Oliveira\nInvestigador Científico\, Diretor de Escola Superior de Gestão (Portugal).\nProf. Doutor Lurindo Canjo\nFilósofo e Pedagogo\, Investigador e Escritor.\n\n\nPor que participar?\nO workshop é uma oportunidade única para acadêmicos\, estudantes e empreendedores interessados em aprender como a investigação científica pode ser aplicada para impulsionar o desenvolvimento de negócios e inovação. \nNão perca esta oportunidade! Faça sua inscrição e garanta sua participação no evento. \nInscrições abertas!\nClique no botão Save the Date para receber mais informações. \n 
URL:https://africaatual.com.br/index.php/event/investigacao-cientifica-negocios/
CATEGORIES:Eventos,Notícias
ATTACH;FMTTYPE=image/jpeg:https://africaatual.com.br/wp-content/uploads/2024/10/Imagem-do-WhatsApp-de-2024-10-07-as-08.25.34_3ee1e4eb-1.jpg
END:VEVENT
END:VCALENDAR