
BEGIN:VCALENDAR
VERSION:2.0
PRODID:-//africaatual.com.br - ECPv6.15.20//NONSGML v1.0//EN
CALSCALE:GREGORIAN
METHOD:PUBLISH
X-WR-CALNAME:africaatual.com.br
X-ORIGINAL-URL:https://africaatual.com.br
X-WR-CALDESC:Eventos para africaatual.com.br
REFRESH-INTERVAL;VALUE=DURATION:PT1H
X-Robots-Tag:noindex
X-PUBLISHED-TTL:PT1H
BEGIN:VTIMEZONE
TZID:America/Sao_Paulo
BEGIN:STANDARD
TZOFFSETFROM:-0300
TZOFFSETTO:-0300
TZNAME:-03
DTSTART:20240101T000000
END:STANDARD
END:VTIMEZONE
BEGIN:VEVENT
DTSTART;TZID=America/Sao_Paulo:20250411T080000
DTEND;TZID=America/Sao_Paulo:20250411T153000
DTSTAMP:20260418T234712
CREATED:20250314T141301Z
LAST-MODIFIED:20250314T141528Z
UID:12465-1744358400-1744385400@africaatual.com.br
SUMMARY:Workshop: A investigação científica no ambiente acadêmico e sua influência no desenvolvimento de negócios
DESCRIPTION:4.ª Edição – Workshop InternacionalTema: “A investigação científica no ambiente acadêmico e sua influência no desenvolvimento de negócios!” \n📅 Data: 11 de abril de 2025⏰ Horário: Das 08h30 às 15h30📍 Local: Mediateca de Luanda\, Largo das Escolas \n👨‍🏫 Palestrantes: \n\nProf. Dr. Adulay António\nProf. Dr. Gaspar João\nProf. Dr. Jerónimo Sunguahanga\nProf. Dr. Odair Marquês\n\n🎓 Benefícios:✅ Material de apoio✅ Diploma de participação✅ Coffee-break \n📞 Contato para mais informações: \n\n930 719 178 | 925 719 125 | 924 045 113 | 954 477 291\n\n🏛 Organização: Jersun – Consultoria Científica SU LDA
URL:https://africaatual.com.br/index.php/event/workshop-a-investigacao-cientifica-no-ambiente-academico-e-sua-influencia-no-desenvolvimento-de-negocios/
CATEGORIES:Eventos
ATTACH;FMTTYPE=image/jpeg:https://africaatual.com.br/wp-content/uploads/2025/03/workshop-internacional-angola-2025-1.jpeg
END:VEVENT
BEGIN:VEVENT
DTSTART;TZID=America/Sao_Paulo:20250411T180000
DTEND;TZID=America/Sao_Paulo:20250411T220000
DTSTAMP:20260418T234712
CREATED:20250411T224359Z
LAST-MODIFIED:20250411T225322Z
UID:12621-1744394400-1744408800@africaatual.com.br
SUMMARY:Lançamento da Revista Òmnira celebra Tereza de Benguela na Casa de Angola\, em Salvador
DESCRIPTION:A nova edição da Revista Òmnira – Literatura & Arte (Jan/Jun 2025) será lançada nesta sexta-feira\, 11 de abril\, às 18h\, na Casa de Angola na Bahia\, em Salvador. Com uma homenagem especial à liderança quilombola Tereza de Benguela\, o evento contará com a apresentação poética e musical do Sarau do Agdá\, reunindo arte\, memória e resistência. \nA revista traz em sua capa a imagem de Tereza de Benguela e matérias que destacam o protagonismo afro-brasileiro e africano nas artes\, cultura e literatura. O poeta Ismael Farinha também é destaque da edição\, com uma análise de sua poética contemporânea feita por Dominique Algasob. \n📍 Local: Casa de Angola – Praça dos Veteranos\, nº 5\, Barroquinha\, Salvador-BA\n🕕 Horário: 18h\n📞 Contato: (71) 98736-9778\n🔗 Mais informações: Clique aqui para acessar o evento \nA realização é da UBSSC\, com apoio da Casa de Angola na Bahia\, da Embaixada de Angola no Brasil\, do Instituto Kutanga\, entre outros parceiros. \nParticipe! Um encontro entre literatura\, ancestralidade e resistência negra. ✊🏿📚
URL:https://africaatual.com.br/index.php/event/revista-omnira/
CATEGORIES:Eventos
ATTACH;FMTTYPE=image/jpeg:https://africaatual.com.br/wp-content/uploads/2025/04/Revista-Omnira.jpg
END:VEVENT
END:VCALENDAR