
BEGIN:VCALENDAR
VERSION:2.0
PRODID:-//africaatual.com.br - ECPv6.15.20//NONSGML v1.0//EN
CALSCALE:GREGORIAN
METHOD:PUBLISH
X-WR-CALNAME:africaatual.com.br
X-ORIGINAL-URL:https://africaatual.com.br
X-WR-CALDESC:Eventos para africaatual.com.br
REFRESH-INTERVAL;VALUE=DURATION:PT1H
X-Robots-Tag:noindex
X-PUBLISHED-TTL:PT1H
BEGIN:VTIMEZONE
TZID:America/Sao_Paulo
BEGIN:STANDARD
TZOFFSETFROM:-0300
TZOFFSETTO:-0300
TZNAME:-03
DTSTART:20240101T000000
END:STANDARD
END:VTIMEZONE
BEGIN:VEVENT
DTSTART;TZID=America/Sao_Paulo:20250923T080000
DTEND;TZID=America/Sao_Paulo:20250925T170000
DTSTAMP:20260419T103204
CREATED:20250905T221829Z
LAST-MODIFIED:20250905T221829Z
UID:12968-1758614400-1758819600@africaatual.com.br
SUMMARY:Caleidoscópio das Ações Afirmativas: seminário internacional no Sesc São Paulo
DESCRIPTION:O Centro de Pesquisa e Formação do Sesc recebe\, entre 23 e 25 de setembro de 2025\, o seminário Caleidoscópio das Ações Afirmativas\, que reúne pesquisadoras e pesquisadores do Brasil\, África do Sul e Estados Unidos. O evento propõe refletir sobre as conquistas\, limites e desafios das políticas de ação afirmativa em contextos de profunda desigualdade. \nMais do que ampliar o acesso ao ensino superior\, as ações afirmativas têm produzido mudanças estruturais nas universidades brasileiras\, trazendo novas epistemologias e temáticas antes sub-representadas. O seminário destaca também o caráter político dessas políticas\, que alteram lugares historicamente estabelecidos de saber-poder e tensionam disputas sociais que ultrapassam a educação. \nO projeto é contemplado pela Chamada nº 40/2022 do Edital Pró-Humanidades/CNPq e conta com curadoria e coordenação de Paulo Neves.
URL:https://africaatual.com.br/index.php/event/caleidoscopio-das-acoes-afirmativas-seminario-internacional-no-sesc-sao-paulo/
CATEGORIES:Seminário
ATTACH;FMTTYPE=image/jpeg:https://africaatual.com.br/wp-content/uploads/2025/09/Mauritania-2.jpg
END:VEVENT
END:VCALENDAR