
BEGIN:VCALENDAR
VERSION:2.0
PRODID:-//africaatual.com.br - ECPv6.15.20//NONSGML v1.0//EN
CALSCALE:GREGORIAN
METHOD:PUBLISH
X-WR-CALNAME:africaatual.com.br
X-ORIGINAL-URL:https://africaatual.com.br
X-WR-CALDESC:Eventos para africaatual.com.br
REFRESH-INTERVAL;VALUE=DURATION:PT1H
X-Robots-Tag:noindex
X-PUBLISHED-TTL:PT1H
BEGIN:VTIMEZONE
TZID:America/Sao_Paulo
BEGIN:STANDARD
TZOFFSETFROM:-0300
TZOFFSETTO:-0300
TZNAME:-03
DTSTART:20230101T000000
END:STANDARD
END:VTIMEZONE
BEGIN:VEVENT
DTSTART;TZID=America/Sao_Paulo:20240614T080000
DTEND;TZID=America/Sao_Paulo:20240615T170000
DTSTAMP:20260423T045003
CREATED:20240301T103259Z
LAST-MODIFIED:20240301T103349Z
UID:10535-1718352000-1718470800@africaatual.com.br
SUMMARY:Colóquio Internacional  -(Re)Africanizando os Espíritos: Memórias\, corpos e representações
DESCRIPTION:Colóquio Internacional -(Re)Africanizando os Espíritos: Memórias\, corpos e representações \nISArC UESB \nInhambane\, Gaza e Maputo\nSubmissão de artigos até dia 13/3 pelo email coloquio2024@isarc.edu.mz
URL:https://africaatual.com.br/index.php/event/coloquio-internacional-reafricanizando-os-espiritos-memorias-corpos-e-representacoes/
ATTACH;FMTTYPE=image/jpeg:https://africaatual.com.br/wp-content/uploads/2024/03/Isarc-UESB.jpeg
END:VEVENT
END:VCALENDAR