
BEGIN:VCALENDAR
VERSION:2.0
PRODID:-//africaatual.com.br - ECPv6.15.20//NONSGML v1.0//EN
CALSCALE:GREGORIAN
METHOD:PUBLISH
X-WR-CALNAME:africaatual.com.br
X-ORIGINAL-URL:https://africaatual.com.br
X-WR-CALDESC:Eventos para africaatual.com.br
REFRESH-INTERVAL;VALUE=DURATION:PT1H
X-Robots-Tag:noindex
X-PUBLISHED-TTL:PT1H
BEGIN:VTIMEZONE
TZID:America/Sao_Paulo
BEGIN:STANDARD
TZOFFSETFROM:-0300
TZOFFSETTO:-0300
TZNAME:-03
DTSTART:20240101T000000
END:STANDARD
END:VTIMEZONE
BEGIN:VEVENT
DTSTART;TZID=America/Sao_Paulo:20250929T080000
DTEND;TZID=America/Sao_Paulo:20250929T170000
DTSTAMP:20260419T090903
CREATED:20250929T143749Z
LAST-MODIFIED:20250929T143911Z
UID:13000-1759132800-1759165200@africaatual.com.br
SUMMARY:14º Congresso Internacional de Educação Antirracista 2025
DESCRIPTION:A Universidade Zumbi dos Palmares realiza\, no dia 17 de novembro de 2025\, a 14ª edição do Congresso Internacional de Educação Antirracista\, em São Paulo\, dentro da programação da 8ª Virada da Consciência (15 a 20 de novembro). \nO evento reafirma o compromisso da universidade na luta contra o racismo por meio da educação\, promovendo a produção\, circulação e divulgação científica e cultural em perspectivas pós-coloniais e decoloniais. \nEntre os temas em destaque estão: \nImaginário e narrativas de resistência e transformação social. \nPráticas pedagógicas inclusivas e continuidade das políticas públicas de igualdade racial. \nLiteratura negra e periférica. \nTradições linguísticas\, religiosas e culturais decoloniais. \n📌 O congresso contará com mesas de debate\, simpósios temáticos e conferências\, reunindo pesquisadores(as)\, professores(as)\, estudantes e movimentos sociais. \nAs inscrições para apresentação de comunicação podem ser feitas até 20 de outubro de 2025. \n Inscreva-se pelo link oficial: \nhttps://docs.google.com/forms/d/e/1FAIpQLSdnUpp-_Sza0UchBdP_9d7volHK0nymKFY5cf3P513AUIaGuQ/viewform?usp=sharing&ouid=103189498344400604595
URL:https://africaatual.com.br/index.php/event/14-congresso-internacional-educacao-antirracista-2025/
CATEGORIES:Eventos,Notícias
ATTACH;FMTTYPE=image/jpeg:https://africaatual.com.br/wp-content/uploads/2025/09/flinksampa-congresso-educacao2025.jpg
END:VEVENT
END:VCALENDAR