
BEGIN:VCALENDAR
VERSION:2.0
PRODID:-//africaatual.com.br - ECPv6.15.20//NONSGML v1.0//EN
CALSCALE:GREGORIAN
METHOD:PUBLISH
X-ORIGINAL-URL:https://africaatual.com.br
X-WR-CALDESC:Eventos para africaatual.com.br
REFRESH-INTERVAL;VALUE=DURATION:PT1H
X-Robots-Tag:noindex
X-PUBLISHED-TTL:PT1H
BEGIN:VTIMEZONE
TZID:America/Sao_Paulo
BEGIN:STANDARD
TZOFFSETFROM:-0300
TZOFFSETTO:-0300
TZNAME:-03
DTSTART:20220101T000000
END:STANDARD
END:VTIMEZONE
BEGIN:VEVENT
DTSTART;TZID=America/Sao_Paulo:20231107T080000
DTEND;TZID=America/Sao_Paulo:20231128T170000
DTSTAMP:20260425T234745
CREATED:20231030T194428Z
LAST-MODIFIED:20231030T194447Z
UID:9497-1699344000-1701190800@africaatual.com.br
SUMMARY:Prefeitura de Amparo promove seminário sobre Promoção da Igualdade Racial: Direitos Humanos e Antirracismo
DESCRIPTION:Publicado Originalmente no site da Prefeitura de Amparo \nA Prefeitura da Estância Amparo sediará o Seminário Municipal pela Promoção da Igualdade Racial: Direitos Humanos e Antirracismo. O evento contará com palestras gratuitas e apresentações culturais nos dias 07 e 28 de novembro no Paço Municipal\, além de exposições de trabalhos feitos por alunos da rede municipal de ensino. \nNo dia 07/11\, “A retrospectiva do movimento negro em Amparo e sua história” será tema principal da palestra que será ministrada por Ray Ribeiro. No dia 28/11\, a palestra “AMPARO: Cuidando da Igualdade e Promovendo Equidade” terá a participação dos palestrantes Marcelo Rezende Bento e Douglas Martins. As duas apresentações acontecerão às 19h\, no hall do Paço Municipal. \nDurante todo mês de novembro também será realizada a Exposição do Projeto África – Conscientização e valorização da Cultura Africana e Afro-Brasileira\, com trabalhos produzidos pelos alunos da rede municipal de ensino\, que poderão ser visitados no hall do Paço Municipal\, das 8h às 17h. \nAs 27 escolas municipais de Amparo realizaram durante todo ano de 2023 um trabalho informativo\, de conscientização\, valorização e inclusão em relação à cultura africana e afro-brasileira com enfoque numa proposta positivista\, ressaltando os aspectos positivos do continente africano com toda sua modernidade\, tecnologia\, diversidade e beleza. Os alunos realizaram pesquisas\, rodas de conversa; vivenciaram brincadeiras\, danças; produziram desenhos\, pinturas\, maquetes\, além de receberem muitas informações sobre a importância do país e suas referências no Brasil\, seja no âmbito cultural\, gastronômico e principalmente no respeito à diversidade com o intuito de promover a redução do preconceito e desigualdades sociais. \nO evento tem como público-alvo toda população e os profissionais da educação que nesse encontro possam refletir\, discutir\, compartilhar e construir conhecimentos relacionados aos conteúdos de educação sobre relações étnico-raciais. \nAs ações foram organizadas pelas Secretarias Municipais de Desenvolvimento Social e Cidadania representada pelo Departamento de Direitos Humanos e Inclusão Social; Educação e de Cultura e Turismo. \nA cada ano\, a promoção do estudo da cultura africana tem se fortalecido na educação básica no Brasil\, seguindo as diretrizes da Lei 10.639/2003\, que tornou obrigatório o ensino da história e cultura afro-brasileira e africana. A Prefeitura de Amparo tem apoiado a inclusão dessas disciplinas nas salas de aula e tem promovido eventos e atividades extracurriculares que destacam a cultura africana e sua relevância na sociedade.
URL:https://africaatual.com.br/index.php/event/prefeitura-de-amparo-promove-seminario-sobre-promocao-da-igualdade-racial-direitos-humanos-e-antirracismo/
ATTACH;FMTTYPE=image/jpeg:https://africaatual.com.br/wp-content/uploads/2023/10/m_47_0_1_30102023092734-1.jpeg
END:VEVENT
END:VCALENDAR